


BEGIN:VCALENDAR
VERSION:2.0
PRODID:-//MOTTY XMAS
 //NONSGML Events //EN
CALSCALE:GREGORIAN
X-WR-CALNAME:MOTTY XMAS
BEGIN:VEVENT
CREATED:20251020T103414Z
UID:10266
DTEND;VALUE=DATE:20251213T230000Z
DTSTART;VALUE=DATE:20251214T083000Z
DTSTAMP:19700101T000001Z
LOCATION:
DESCRIPTION:Domenica 14 dicembre 2025, dalle ore 9:30
SUMMARY:MOTTY XMAS
ORGANIZER:Baveno Turismo
URL;VALUE=URI:https://bavenoturismo.it/eventi/motty-xmas/
TRANSP:OPAQUE
BEGIN:VALARM
ACTION:DISPLAY
TRIGGER;VALUE=DATE-TIME:20251214T000000Z
DESCRIPTION:Reminder for MOTTY XMAS
END:VALARM
END:VEVENT
END:VCALENDAR
