


BEGIN:VCALENDAR
VERSION:2.0
PRODID:-//ASPETTANDO SOTTO L&#8217;ALBERO
 //NONSGML Events //EN
CALSCALE:GREGORIAN
X-WR-CALNAME:ASPETTANDO SOTTO L&#8217;ALBERO
BEGIN:VEVENT
CREATED:20251114T095600Z
UID:10293
DTEND;VALUE=DATE:20251207T170000Z
DTSTART;VALUE=DATE:20251207T153000Z
DTSTAMP:19700101T000001Z
LOCATION:
DESCRIPTION:Domenica 7 dicembre 2025, ore 16:30
SUMMARY:ASPETTANDO SOTTO L&#8217\;ALBERO
ORGANIZER:Baveno Turismo
URL;VALUE=URI:https://bavenoturismo.it/eventi/aspettando-sotto-lalbero/
TRANSP:OPAQUE
BEGIN:VALARM
ACTION:DISPLAY
TRIGGER;VALUE=DATE-TIME:20251207T180000Z
DESCRIPTION:Reminder for ASPETTANDO SOTTO L&#8217\;ALBERO
END:VALARM
END:VEVENT
END:VCALENDAR
