


BEGIN:VCALENDAR
VERSION:2.0
PRODID:-//FESTA DI SAN GIUSEPPE 2026
 //NONSGML Events //EN
CALSCALE:GREGORIAN
X-WR-CALNAME:FESTA DI SAN GIUSEPPE 2026
BEGIN:VEVENT
CREATED:20260306T114946Z
UID:10437
DTEND;VALUE=DATE:20260322T120000Z
DTSTART;VALUE=DATE:20260319T193000Z
DTSTAMP:19700101T000001Z
LOCATION:
DESCRIPTION:Da giovedì 19 a domenica 22 marzo 2026
SUMMARY:FESTA DI SAN GIUSEPPE 2026
ORGANIZER:Baveno Turismo
URL;VALUE=URI:https://bavenoturismo.it/eventi/festa-di-san-giuseppe-2026/
TRANSP:OPAQUE
BEGIN:VALARM
ACTION:DISPLAY
TRIGGER;VALUE=DATE-TIME:20260322T130000Z
DESCRIPTION:Reminder for FESTA DI SAN GIUSEPPE 2026
END:VALARM
END:VEVENT
END:VCALENDAR
