


BEGIN:VCALENDAR
VERSION:2.0
PRODID:-//FESTIVAL FROM THE MOUNTAIN TO THE LAKE: &#8220;Lusìn&#8221;
 //NONSGML Events //EN
CALSCALE:GREGORIAN
X-WR-CALNAME:FESTIVAL FROM THE MOUNTAIN TO THE LAKE: &#8220;Lusìn&#8221;
BEGIN:VEVENT
CREATED:20260421T133633Z
UID:10555
DTEND;VALUE=DATE:20260703T213000Z
DTSTART;VALUE=DATE:20260703T200000Z
DTSTAMP:19700101T000001Z
LOCATION:
DESCRIPTION:Friday the 3rd of July 2026, 9:00pm
SUMMARY:FESTIVAL FROM THE MOUNTAIN TO THE LAKE: &#8220\;Lusìn&#8221\;
ORGANIZER:Baveno Turismo
URL;VALUE=URI:https://bavenoturismo.it/en/eventi/festival-dalla-montagna-al-lago-lusin/
TRANSP:OPAQUE
BEGIN:VALARM
ACTION:DISPLAY
TRIGGER;VALUE=DATE-TIME:20260703T223000Z
DESCRIPTION:Reminder for FESTIVAL FROM THE MOUNTAIN TO THE LAKE: &#8220\;Lusìn&#8221\;
END:VALARM
END:VEVENT
END:VCALENDAR
