


BEGIN:VCALENDAR
VERSION:2.0
PRODID:-//FESTIVAL FROM THE MOUNTAIN TO THE LAKE: &#8220;Tutti in Valigia&#8221;
 //NONSGML Events //EN
CALSCALE:GREGORIAN
X-WR-CALNAME:FESTIVAL FROM THE MOUNTAIN TO THE LAKE: &#8220;Tutti in Valigia&#8221;
BEGIN:VEVENT
CREATED:20260421T143328Z
UID:10558
DTEND;VALUE=DATE:20260716T211500Z
DTSTART;VALUE=DATE:20260716T200000Z
DTSTAMP:19700101T000001Z
LOCATION:
DESCRIPTION:Thursday the 16th of July 2026, 9:00pm
SUMMARY:FESTIVAL FROM THE MOUNTAIN TO THE LAKE: &#8220\;Tutti in Valigia&#8221\;
ORGANIZER:Baveno Turismo
URL;VALUE=URI:https://bavenoturismo.it/en/eventi/festival-dalla-montagna-al-lago-tutti-in-valigia/
TRANSP:OPAQUE
BEGIN:VALARM
ACTION:DISPLAY
TRIGGER;VALUE=DATE-TIME:20260716T221500Z
DESCRIPTION:Reminder for FESTIVAL FROM THE MOUNTAIN TO THE LAKE: &#8220\;Tutti in Valigia&#8221\;
END:VALARM
END:VEVENT
END:VCALENDAR
