


BEGIN:VCALENDAR
VERSION:2.0
PRODID:-//FESTIVAL DALLA MONTAGNA AL LAGO: &#8220;Take a Break&#8221;
 //NONSGML Events //EN
CALSCALE:GREGORIAN
X-WR-CALNAME:FESTIVAL DALLA MONTAGNA AL LAGO: &#8220;Take a Break&#8221;
BEGIN:VEVENT
CREATED:20260421T150337Z
UID:10561
DTEND;VALUE=DATE:20260731T210000Z
DTSTART;VALUE=DATE:20260731T200000Z
DTSTAMP:19700101T000001Z
LOCATION:
DESCRIPTION:Venerdì 31 luglio 2026, ore 21:00
SUMMARY:FESTIVAL DALLA MONTAGNA AL LAGO: &#8220\;Take a Break&#8221\;
ORGANIZER:Baveno Turismo
URL;VALUE=URI:https://bavenoturismo.it/eventi/festival-dalla-montagna-al-lago-take-a-break/
TRANSP:OPAQUE
BEGIN:VALARM
ACTION:DISPLAY
TRIGGER;VALUE=DATE-TIME:20260731T220000Z
DESCRIPTION:Reminder for FESTIVAL DALLA MONTAGNA AL LAGO: &#8220\;Take a Break&#8221\;
END:VALARM
END:VEVENT
END:VCALENDAR
