


BEGIN:VCALENDAR
VERSION:2.0
PRODID:-//IO LEGGO A CASA!
 //NONSGML Events //EN
CALSCALE:GREGORIAN
X-WR-CALNAME:IO LEGGO A CASA!
BEGIN:VEVENT
CREATED:20210112T114409Z
UID:6247
DTEND;VALUE=DATE:20210115T230000Z
DTSTART;VALUE=DATE:20210110T230000Z
DTSTAMP:19700101T000001Z
LOCATION:
DESCRIPTION:Da lunedì 11 a sabato 16 gennaio 2021 &nbsp;
SUMMARY:IO LEGGO A CASA!
ORGANIZER:Baveno Turismo
URL;VALUE=URI:https://bavenoturismo.it/eventi/io-leggo-a-casa-2/
TRANSP:OPAQUE
BEGIN:VALARM
ACTION:DISPLAY
TRIGGER;VALUE=DATE-TIME:20210116T000000Z
DESCRIPTION:Reminder for IO LEGGO A CASA!
END:VALARM
END:VEVENT
END:VCALENDAR
