


BEGIN:VCALENDAR
VERSION:2.0
PRODID:-//FESTIVAL DALLA MONTAGNA AL LAGO: OCHNER CIRCUS CABARET
 //NONSGML Events //EN
CALSCALE:GREGORIAN
X-WR-CALNAME:FESTIVAL DALLA MONTAGNA AL LAGO: OCHNER CIRCUS CABARET
BEGIN:VEVENT
CREATED:20210503T092957Z
UID:6361
DTEND;VALUE=DATE:20210814T213000Z
DTSTART;VALUE=DATE:20210814T203000Z
DTSTAMP:19700101T000001Z
LOCATION:
DESCRIPTION:Sabato 14 agosto 2021, ore 21:30 &nbsp;
SUMMARY:FESTIVAL DALLA MONTAGNA AL LAGO: OCHNER CIRCUS CABARET
ORGANIZER:Baveno Turismo
URL;VALUE=URI:https://bavenoturismo.it/eventi/dalla-montagna-al-lago-2021-fratelli-ochner/
TRANSP:OPAQUE
BEGIN:VALARM
ACTION:DISPLAY
TRIGGER;VALUE=DATE-TIME:20210814T223000Z
DESCRIPTION:Reminder for FESTIVAL DALLA MONTAGNA AL LAGO: OCHNER CIRCUS CABARET
END:VALARM
END:VEVENT
END:VCALENDAR
