


BEGIN:VCALENDAR
VERSION:2.0
PRODID:-//RASSEGNA LA PIETRA RACCONTA: LA PICCOLA CHIESA CIRCONDATA DA GIOCHI INCISI
 //NONSGML Events //EN
CALSCALE:GREGORIAN
X-WR-CALNAME:RASSEGNA LA PIETRA RACCONTA: LA PICCOLA CHIESA CIRCONDATA DA GIOCHI INCISI
BEGIN:VEVENT
CREATED:20210512T075839Z
UID:6375
DTEND;VALUE=DATE:20210806T170000Z
DTSTART;VALUE=DATE:20210806T150000Z
DTSTAMP:19700101T000001Z
LOCATION:
DESCRIPTION:Venerdì 6 agosto 2021. ore 16:00 &nbsp;
SUMMARY:RASSEGNA LA PIETRA RACCONTA: LA PICCOLA CHIESA CIRCONDATA DA GIOCHI INCISI
ORGANIZER:Baveno Turismo
URL;VALUE=URI:https://bavenoturismo.it/eventi/la-pietra-racconta-2021-mini-crociera-baveno-suna/
TRANSP:OPAQUE
BEGIN:VALARM
ACTION:DISPLAY
TRIGGER;VALUE=DATE-TIME:20210806T180000Z
DESCRIPTION:Reminder for RASSEGNA LA PIETRA RACCONTA: LA PICCOLA CHIESA CIRCONDATA DA GIOCHI INCISI
END:VALARM
END:VEVENT
END:VCALENDAR
