


BEGIN:VCALENDAR
VERSION:2.0
PRODID:-//NOTE D&#8217;ESTATE &#8211; THECENTI
 //NONSGML Events //EN
CALSCALE:GREGORIAN
X-WR-CALNAME:NOTE D&#8217;ESTATE &#8211; THECENTI
BEGIN:VEVENT
CREATED:20210511T141005Z
UID:6388
DTEND;VALUE=DATE:20210803T213000Z
DTSTART;VALUE=DATE:20210803T200000Z
DTSTAMP:19700101T000001Z
LOCATION:
DESCRIPTION:Martedì 3 agosto 2021, ore 21:00 &nbsp;
SUMMARY:NOTE D&#8217\;ESTATE &#8211\; THECENTI
ORGANIZER:Baveno Turismo
URL;VALUE=URI:https://bavenoturismo.it/eventi/note-destate/
TRANSP:OPAQUE
BEGIN:VALARM
ACTION:DISPLAY
TRIGGER;VALUE=DATE-TIME:20210803T223000Z
DESCRIPTION:Reminder for NOTE D&#8217\;ESTATE &#8211\; THECENTI
END:VALARM
END:VEVENT
END:VCALENDAR
