


BEGIN:VCALENDAR
VERSION:2.0
PRODID:-//ESCURSIONE AD ANELLO ALLA SCOPERTA DEI NOSTRI SENTIERI E FRAZIONI
 //NONSGML Events //EN
CALSCALE:GREGORIAN
X-WR-CALNAME:ESCURSIONE AD ANELLO ALLA SCOPERTA DEI NOSTRI SENTIERI E FRAZIONI
BEGIN:VEVENT
CREATED:20210609T151128Z
UID:6526
DTEND;VALUE=DATE:20210627T170000Z
DTSTART;VALUE=DATE:20210627T080000Z
DTSTAMP:19700101T000001Z
LOCATION:
DESCRIPTION:Domenica 27 giugno 2021, ore 9:00 &nbsp;
SUMMARY:ESCURSIONE AD ANELLO ALLA SCOPERTA DEI NOSTRI SENTIERI E FRAZIONI
ORGANIZER:Baveno Turismo
URL;VALUE=URI:https://bavenoturismo.it/eventi/escursione-ad-anello-alla-scoperta-dei-nostri-sentieri-e-frazioni/
TRANSP:OPAQUE
BEGIN:VALARM
ACTION:DISPLAY
TRIGGER;VALUE=DATE-TIME:20210627T180000Z
DESCRIPTION:Reminder for ESCURSIONE AD ANELLO ALLA SCOPERTA DEI NOSTRI SENTIERI E FRAZIONI
END:VALARM
END:VEVENT
END:VCALENDAR
