


BEGIN:VCALENDAR
VERSION:2.0
PRODID:-//DOMENICHE A TEATRO: LA MAGICA FORESTA
 //NONSGML Events //EN
CALSCALE:GREGORIAN
X-WR-CALNAME:DOMENICHE A TEATRO: LA MAGICA FORESTA
BEGIN:VEVENT
CREATED:20210928T084928Z
UID:6747
DTEND;VALUE=DATE:20220220T170000Z
DTSTART;VALUE=DATE:20220220T153000Z
DTSTAMP:19700101T000001Z
LOCATION:
DESCRIPTION:Domenica 20 febbraio 2022, ore 16:30 &nbsp;
SUMMARY:DOMENICHE A TEATRO: LA MAGICA FORESTA
ORGANIZER:Baveno Turismo
URL;VALUE=URI:https://bavenoturismo.it/eventi/domeniche-a-teatro-15/
TRANSP:OPAQUE
BEGIN:VALARM
ACTION:DISPLAY
TRIGGER;VALUE=DATE-TIME:20220220T180000Z
DESCRIPTION:Reminder for DOMENICHE A TEATRO: LA MAGICA FORESTA
END:VALARM
END:VEVENT
END:VCALENDAR
