


BEGIN:VCALENDAR
VERSION:2.0
PRODID:-//RASSEGNA LA PIETRA RACCONTA: UN VIAGGIO ROMANTICO
 //NONSGML Events //EN
CALSCALE:GREGORIAN
X-WR-CALNAME:RASSEGNA LA PIETRA RACCONTA: UN VIAGGIO ROMANTICO
BEGIN:VEVENT
CREATED:20220406T140922Z
UID:7171
DTEND;VALUE=DATE:20220611T183000Z
DTSTART;VALUE=DATE:20220611T170000Z
DTSTAMP:19700101T000001Z
LOCATION:
DESCRIPTION:Sabato 11 giugno 2022, ore 18:00 &nbsp;
SUMMARY:RASSEGNA LA PIETRA RACCONTA: UN VIAGGIO ROMANTICO
ORGANIZER:Baveno Turismo
URL;VALUE=URI:https://bavenoturismo.it/eventi/rassegna-la-pietra-racconta-un-viaggio-romantico/
TRANSP:OPAQUE
BEGIN:VALARM
ACTION:DISPLAY
TRIGGER;VALUE=DATE-TIME:20220611T193000Z
DESCRIPTION:Reminder for RASSEGNA LA PIETRA RACCONTA: UN VIAGGIO ROMANTICO
END:VALARM
END:VEVENT
END:VCALENDAR
