


BEGIN:VCALENDAR
VERSION:2.0
PRODID:-//FESTIVAL DI PAROLA IN MUSICA: LA FAVOLA DI ORFEO
 //NONSGML Events //EN
CALSCALE:GREGORIAN
X-WR-CALNAME:FESTIVAL DI PAROLA IN MUSICA: LA FAVOLA DI ORFEO
BEGIN:VEVENT
CREATED:20220422T162241Z
UID:7239
DTEND;VALUE=DATE:20220731T213000Z
DTSTART;VALUE=DATE:20220731T200000Z
DTSTAMP:19700101T000001Z
LOCATION:
DESCRIPTION:Domenica 31 luglio 2022, ore 21:00 &nbsp;
SUMMARY:FESTIVAL DI PAROLA IN MUSICA: LA FAVOLA DI ORFEO
ORGANIZER:Baveno Turismo
URL;VALUE=URI:https://bavenoturismo.it/eventi/festival-di-parola-in-musica-orfeo/
TRANSP:OPAQUE
BEGIN:VALARM
ACTION:DISPLAY
TRIGGER;VALUE=DATE-TIME:20220731T223000Z
DESCRIPTION:Reminder for FESTIVAL DI PAROLA IN MUSICA: LA FAVOLA DI ORFEO
END:VALARM
END:VEVENT
END:VCALENDAR
