


BEGIN:VCALENDAR
VERSION:2.0
PRODID:-//FESTIVAL DI PAROLA IN MUSICA: SELVA AMOROSA
 //NONSGML Events //EN
CALSCALE:GREGORIAN
X-WR-CALNAME:FESTIVAL DI PAROLA IN MUSICA: SELVA AMOROSA
BEGIN:VEVENT
CREATED:20220423T075352Z
UID:7245
DTEND;VALUE=DATE:20220817T213000Z
DTSTART;VALUE=DATE:20220817T200000Z
DTSTAMP:19700101T000001Z
LOCATION:
DESCRIPTION:Mercoledì 17 agosto 2022, ore 21:00 &nbsp;
SUMMARY:FESTIVAL DI PAROLA IN MUSICA: SELVA AMOROSA
ORGANIZER:Baveno Turismo
URL;VALUE=URI:https://bavenoturismo.it/eventi/festival-di-parola-in-musica-concerto-da-camera-2/
TRANSP:OPAQUE
BEGIN:VALARM
ACTION:DISPLAY
TRIGGER;VALUE=DATE-TIME:20220817T223000Z
DESCRIPTION:Reminder for FESTIVAL DI PAROLA IN MUSICA: SELVA AMOROSA
END:VALARM
END:VEVENT
END:VCALENDAR
