


BEGIN:VCALENDAR
VERSION:2.0
PRODID:-//PASSEGGIANDO TRA I PRESEPI
 //NONSGML Events //EN
CALSCALE:GREGORIAN
X-WR-CALNAME:PASSEGGIANDO TRA I PRESEPI
BEGIN:VEVENT
CREATED:20220503T093951Z
UID:7334
DTEND;VALUE=DATE:20230107T230000Z
DTSTART;VALUE=DATE:20221207T230000Z
DTSTAMP:19700101T000001Z
LOCATION:
DESCRIPTION:Da giovedì 8 dicembre 2022 a domenica 8 gennaio 2023 &nbsp;
SUMMARY:PASSEGGIANDO TRA I PRESEPI
ORGANIZER:Baveno Turismo
URL;VALUE=URI:https://bavenoturismo.it/eventi/passeggiando-tra-i-presepi-3/
TRANSP:OPAQUE
BEGIN:VALARM
ACTION:DISPLAY
TRIGGER;VALUE=DATE-TIME:20230108T000000Z
DESCRIPTION:Reminder for PASSEGGIANDO TRA I PRESEPI
END:VALARM
END:VEVENT
END:VCALENDAR
