


BEGIN:VCALENDAR
VERSION:2.0
PRODID:-//CORSI UNI3 2022-2023: INGLESE LIVELLO BASE +1
 //NONSGML Events //EN
CALSCALE:GREGORIAN
X-WR-CALNAME:CORSI UNI3 2022-2023: INGLESE LIVELLO BASE +1
BEGIN:VEVENT
CREATED:20221019T073119Z
UID:7781
DTEND;VALUE=DATE:20230222T180000Z
DTSTART;VALUE=DATE:20230116T160000Z
DTSTAMP:19700101T000001Z
LOCATION:
DESCRIPTION:Da lunedì 16 gennaio a mercoledì 22 febbraio 2023, ore 17:00-19:00 &
SUMMARY:CORSI UNI3 2022-2023: INGLESE LIVELLO BASE +1
ORGANIZER:Baveno Turismo
URL;VALUE=URI:https://bavenoturismo.it/eventi/corsi-uni3-2022-2023-corso-di-inglese-livello-base-1/
TRANSP:OPAQUE
BEGIN:VALARM
ACTION:DISPLAY
TRIGGER;VALUE=DATE-TIME:20230222T190000Z
DESCRIPTION:Reminder for CORSI UNI3 2022-2023: INGLESE LIVELLO BASE +1
END:VALARM
END:VEVENT
END:VCALENDAR
