


BEGIN:VCALENDAR
VERSION:2.0
PRODID:-//CORSI UNI3 2022-2023: STORIA
 //NONSGML Events //EN
CALSCALE:GREGORIAN
X-WR-CALNAME:CORSI UNI3 2022-2023: STORIA
BEGIN:VEVENT
CREATED:20221019T092610Z
UID:7794
DTEND;VALUE=DATE:20230426T153000Z
DTSTART;VALUE=DATE:20230215T133000Z
DTSTAMP:19700101T000001Z
LOCATION:
DESCRIPTION:Da mercoledì 15 febbraio a mercoledì 26 aprile 2023, ore 14:30-16:30
SUMMARY:CORSI UNI3 2022-2023: STORIA
ORGANIZER:Baveno Turismo
URL;VALUE=URI:https://bavenoturismo.it/eventi/corsi-uni3-2022-2023-storia/
TRANSP:OPAQUE
BEGIN:VALARM
ACTION:DISPLAY
TRIGGER;VALUE=DATE-TIME:20230426T163000Z
DESCRIPTION:Reminder for CORSI UNI3 2022-2023: STORIA
END:VALARM
END:VEVENT
END:VCALENDAR
