


BEGIN:VCALENDAR
VERSION:2.0
PRODID:-//PRESENTAZIONE DEL LIBRO: &#8220;ALDA MERINI, MIA MADRE&#8221; DI EMANUELA CARNITI &#8211; ANNULLATA
 //NONSGML Events //EN
CALSCALE:GREGORIAN
X-WR-CALNAME:PRESENTAZIONE DEL LIBRO: &#8220;ALDA MERINI, MIA MADRE&#8221; DI EMANUELA CARNITI &#8211; ANNULLATA
BEGIN:VEVENT
CREATED:20230411T102928Z
UID:7984
DTEND;VALUE=DATE:20230429T170000Z
DTSTART;VALUE=DATE:20230429T150000Z
DTSTAMP:19700101T000001Z
LOCATION:
DESCRIPTION:Sabato 29 aprile 2023, ore 16.00 &nbsp;
SUMMARY:PRESENTAZIONE DEL LIBRO: &#8220\;ALDA MERINI\, MIA MADRE&#8221\; DI EMANUELA CARNITI &#8211\; ANNULLATA
ORGANIZER:Baveno Turismo
URL;VALUE=URI:https://bavenoturismo.it/eventi/presentazione-del-libro-alda-merini-mia-madre-di-emanuela-carniti/
TRANSP:OPAQUE
BEGIN:VALARM
ACTION:DISPLAY
TRIGGER;VALUE=DATE-TIME:20230429T180000Z
DESCRIPTION:Reminder for PRESENTAZIONE DEL LIBRO: &#8220\;ALDA MERINI\, MIA MADRE&#8221\; DI EMANUELA CARNITI &#8211\; ANNULLATA
END:VALARM
END:VEVENT
END:VCALENDAR
