


BEGIN:VCALENDAR
VERSION:2.0
PRODID:-//LAGO MAGGIORE HALF MARATHON
 //NONSGML Events //EN
CALSCALE:GREGORIAN
X-WR-CALNAME:LAGO MAGGIORE HALF MARATHON
BEGIN:VEVENT
CREATED:20230412T090443Z
UID:7990
DTEND;VALUE=DATE:20230514T110000Z
DTSTART;VALUE=DATE:20230514T060000Z
DTSTAMP:19700101T000001Z
LOCATION:
DESCRIPTION:Domenica 14 maggio 2023 &nbsp;
SUMMARY:LAGO MAGGIORE HALF MARATHON
ORGANIZER:Baveno Turismo
URL;VALUE=URI:https://bavenoturismo.it/eventi/lago-maggiore-half-marathon-4/
TRANSP:OPAQUE
BEGIN:VALARM
ACTION:DISPLAY
TRIGGER;VALUE=DATE-TIME:20230514T120000Z
DESCRIPTION:Reminder for LAGO MAGGIORE HALF MARATHON
END:VALARM
END:VEVENT
END:VCALENDAR
