


BEGIN:VCALENDAR
VERSION:2.0
PRODID:-//NATI PER LEGGERE: LETTURE BILINGUE AD ALTA VOCE AL PARCO!
 //NONSGML Events //EN
CALSCALE:GREGORIAN
X-WR-CALNAME:NATI PER LEGGERE: LETTURE BILINGUE AD ALTA VOCE AL PARCO!
BEGIN:VEVENT
CREATED:20230705T132551Z
UID:8286
DTEND;VALUE=DATE:20230729T110000Z
DTSTART;VALUE=DATE:20230729T100000Z
DTSTAMP:19700101T000001Z
LOCATION:
DESCRIPTION:Sabato 29 luglio 2023, ore 11.00 &nbsp;
SUMMARY:NATI PER LEGGERE: LETTURE BILINGUE AD ALTA VOCE AL PARCO!
ORGANIZER:Baveno Turismo
URL;VALUE=URI:https://bavenoturismo.it/eventi/nati-per-leggere-letture-bilingue-ad-alta-voce-al-parco/
TRANSP:OPAQUE
BEGIN:VALARM
ACTION:DISPLAY
TRIGGER;VALUE=DATE-TIME:20230729T120000Z
DESCRIPTION:Reminder for NATI PER LEGGERE: LETTURE BILINGUE AD ALTA VOCE AL PARCO!
END:VALARM
END:VEVENT
END:VCALENDAR
