


BEGIN:VCALENDAR
VERSION:2.0
PRODID:-//BAVENO PER L&#8217;EMILIA ROMAGNA: VIAGGIO MUSICALE IN DUO
 //NONSGML Events //EN
CALSCALE:GREGORIAN
X-WR-CALNAME:BAVENO PER L&#8217;EMILIA ROMAGNA: VIAGGIO MUSICALE IN DUO
BEGIN:VEVENT
CREATED:20230706T154705Z
UID:8294
DTEND;VALUE=DATE:20230723T220000Z
DTSTART;VALUE=DATE:20230723T200000Z
DTSTAMP:19700101T000001Z
LOCATION:
DESCRIPTION:Domenica 23 luglio 2023, ore 21.00 &nbsp;
SUMMARY:BAVENO PER L&#8217\;EMILIA ROMAGNA: VIAGGIO MUSICALE IN DUO
ORGANIZER:Baveno Turismo
URL;VALUE=URI:https://bavenoturismo.it/eventi/baveno-per-lemilia-romagna-viaggio-musicale-in-duo/
TRANSP:OPAQUE
BEGIN:VALARM
ACTION:DISPLAY
TRIGGER;VALUE=DATE-TIME:20230723T230000Z
DESCRIPTION:Reminder for BAVENO PER L&#8217\;EMILIA ROMAGNA: VIAGGIO MUSICALE IN DUO
END:VALARM
END:VEVENT
END:VCALENDAR
