


BEGIN:VCALENDAR
VERSION:2.0
PRODID:-//FESTA DELLA QUARTASCIA
 //NONSGML Events //EN
CALSCALE:GREGORIAN
X-WR-CALNAME:FESTA DELLA QUARTASCIA
BEGIN:VEVENT
CREATED:20240112T102521Z
UID:8775
DTEND;VALUE=DATE:20241026T230000Z
DTSTART;VALUE=DATE:20241027T100000Z
DTSTAMP:19700101T000001Z
LOCATION:
DESCRIPTION:Domenica 27 ottobre 2024, dalle ore 11:00 &nbsp; &nbsp;
SUMMARY:FESTA DELLA QUARTASCIA
ORGANIZER:Baveno Turismo
URL;VALUE=URI:https://bavenoturismo.it/eventi/festa-della-quartascia-6/
TRANSP:OPAQUE
BEGIN:VALARM
ACTION:DISPLAY
TRIGGER;VALUE=DATE-TIME:20241027T000000Z
DESCRIPTION:Reminder for FESTA DELLA QUARTASCIA
END:VALARM
END:VEVENT
END:VCALENDAR
