


BEGIN:VCALENDAR
VERSION:2.0
PRODID:-//FESTA D&#8217;ESTATE
 //NONSGML Events //EN
CALSCALE:GREGORIAN
X-WR-CALNAME:FESTA D&#8217;ESTATE
BEGIN:VEVENT
CREATED:20240112T104544Z
UID:8778
DTEND;VALUE=DATE:20240713T230000Z
DTSTART;VALUE=DATE:20240704T230000Z
DTSTAMP:19700101T000001Z
LOCATION:
DESCRIPTION:Da venerdì 5 a domenica 7 e da giovedì 11 a domenica 14 luglio 2024
SUMMARY:FESTA D&#8217\;ESTATE
ORGANIZER:Baveno Turismo
URL;VALUE=URI:https://bavenoturismo.it/eventi/festa-destate-12/
TRANSP:OPAQUE
BEGIN:VALARM
ACTION:DISPLAY
TRIGGER;VALUE=DATE-TIME:20240714T000000Z
DESCRIPTION:Reminder for FESTA D&#8217\;ESTATE
END:VALARM
END:VEVENT
END:VCALENDAR
