


BEGIN:VCALENDAR
VERSION:2.0
PRODID:-//CARNEVALE FERIOLESE 2024
 //NONSGML Events //EN
CALSCALE:GREGORIAN
X-WR-CALNAME:CARNEVALE FERIOLESE 2024
BEGIN:VEVENT
CREATED:20240117T073335Z
UID:8783
DTEND;VALUE=DATE:20240210T230000Z
DTSTART;VALUE=DATE:20240211T110000Z
DTSTAMP:19700101T000001Z
LOCATION:
DESCRIPTION:Domenica 11 febbraio 2024, ore 12.00 &nbsp;
SUMMARY:CARNEVALE FERIOLESE 2024
ORGANIZER:Baveno Turismo
URL;VALUE=URI:https://bavenoturismo.it/eventi/carnevale-feriolese-2024/
TRANSP:OPAQUE
BEGIN:VALARM
ACTION:DISPLAY
TRIGGER;VALUE=DATE-TIME:20240211T000000Z
DESCRIPTION:Reminder for CARNEVALE FERIOLESE 2024
END:VALARM
END:VEVENT
END:VCALENDAR
