


BEGIN:VCALENDAR
VERSION:2.0
PRODID:-//CORSI UNI3 2024-2025: PROGETTO BRIDGE
 //NONSGML Events //EN
CALSCALE:GREGORIAN
X-WR-CALNAME:CORSI UNI3 2024-2025: PROGETTO BRIDGE
BEGIN:VEVENT
CREATED:20240827T124754Z
UID:9320
DTEND;VALUE=DATE:20250115T160000Z
DTSTART;VALUE=DATE:20241106T140000Z
DTSTAMP:19700101T000001Z
LOCATION:
DESCRIPTION:Mercoledì dalle ore 15.00 alle ore 17.00, dal 6/11/24 al 15/1/25
SUMMARY:CORSI UNI3 2024-2025: PROGETTO BRIDGE
ORGANIZER:Baveno Turismo
URL;VALUE=URI:https://bavenoturismo.it/eventi/corsi-uni3-2024-2025-progetto-bridge/
TRANSP:OPAQUE
BEGIN:VALARM
ACTION:DISPLAY
TRIGGER;VALUE=DATE-TIME:20250115T170000Z
DESCRIPTION:Reminder for CORSI UNI3 2024-2025: PROGETTO BRIDGE
END:VALARM
END:VEVENT
END:VCALENDAR
