


BEGIN:VCALENDAR
VERSION:2.0
PRODID:-//CORSI UNI3 2024-2025: LABORATORIO DI RECITAZIONE TEATRALE E CINEMATOGRAFICA &#8211; parte 2
 //NONSGML Events //EN
CALSCALE:GREGORIAN
X-WR-CALNAME:CORSI UNI3 2024-2025: LABORATORIO DI RECITAZIONE TEATRALE E CINEMATOGRAFICA &#8211; parte 2
BEGIN:VEVENT
CREATED:20240827T155826Z
UID:9365
DTEND;VALUE=DATE:20250510T170000Z
DTSTART;VALUE=DATE:20250215T140000Z
DTSTAMP:19700101T000001Z
LOCATION:
DESCRIPTION:Sabato dalle ore 15.00 alle ore 18.00, dal 15/2/25 al 10/5/25
SUMMARY:CORSI UNI3 2024-2025: LABORATORIO DI RECITAZIONE TEATRALE E CINEMATOGRAFICA &#8211\; parte 2
ORGANIZER:Baveno Turismo
URL;VALUE=URI:https://bavenoturismo.it/eventi/corsi-uni3-2024-2025-laboratorio-di-recitazione-teatrale-e-cinematografica-parte-2/
TRANSP:OPAQUE
BEGIN:VALARM
ACTION:DISPLAY
TRIGGER;VALUE=DATE-TIME:20250510T180000Z
DESCRIPTION:Reminder for CORSI UNI3 2024-2025: LABORATORIO DI RECITAZIONE TEATRALE E CINEMATOGRAFICA &#8211\; parte 2
END:VALARM
END:VEVENT
END:VCALENDAR
