


BEGIN:VCALENDAR
VERSION:2.0
PRODID:-//RICOSTRUIRE LA SPERANZA &#8211; TESTIMONIANZA DI DON GINO RIGOLDI
 //NONSGML Events //EN
CALSCALE:GREGORIAN
X-WR-CALNAME:RICOSTRUIRE LA SPERANZA &#8211; TESTIMONIANZA DI DON GINO RIGOLDI
BEGIN:VEVENT
CREATED:20250312T134004Z
UID:9640
DTEND;VALUE=DATE:20250321T220000Z
DTSTART;VALUE=DATE:20250321T194500Z
DTSTAMP:19700101T000001Z
LOCATION:
DESCRIPTION:Venerdì 21 marzo 2025, ore 20:45 &nbsp;
SUMMARY:RICOSTRUIRE LA SPERANZA &#8211\; TESTIMONIANZA DI DON GINO RIGOLDI
ORGANIZER:Baveno Turismo
URL;VALUE=URI:https://bavenoturismo.it/eventi/ricostruire-la-speranza-testimonianza-di-don-gino-rigoldi/
TRANSP:OPAQUE
BEGIN:VALARM
ACTION:DISPLAY
TRIGGER;VALUE=DATE-TIME:20250321T230000Z
DESCRIPTION:Reminder for RICOSTRUIRE LA SPERANZA &#8211\; TESTIMONIANZA DI DON GINO RIGOLDI
END:VALARM
END:VEVENT
END:VCALENDAR
