


BEGIN:VCALENDAR
VERSION:2.0
PRODID:-//GIORNATE FAI DI PRIMAVERA: I GIARDINI DEL VCO
 //NONSGML Events //EN
CALSCALE:GREGORIAN
X-WR-CALNAME:GIORNATE FAI DI PRIMAVERA: I GIARDINI DEL VCO
BEGIN:VEVENT
CREATED:20250313T113850Z
UID:9647
DTEND;VALUE=DATE:20250322T160000Z
DTSTART;VALUE=DATE:20250322T150000Z
DTSTAMP:19700101T000001Z
LOCATION:
DESCRIPTION:Sabato 22 marzo, 2025 ore 16:00
SUMMARY:GIORNATE FAI DI PRIMAVERA: I GIARDINI DEL VCO
ORGANIZER:Baveno Turismo
URL;VALUE=URI:https://bavenoturismo.it/eventi/giornate-fai-di-primavera-i-giardini-del-vco/
TRANSP:OPAQUE
BEGIN:VALARM
ACTION:DISPLAY
TRIGGER;VALUE=DATE-TIME:20250322T170000Z
DESCRIPTION:Reminder for GIORNATE FAI DI PRIMAVERA: I GIARDINI DEL VCO
END:VALARM
END:VEVENT
END:VCALENDAR
