


BEGIN:VCALENDAR
VERSION:2.0
PRODID:-//QUANDO LE STORIE SI PRENDONO CURA DEL LETTORE: DUE di Irène Némirovsky
 //NONSGML Events //EN
CALSCALE:GREGORIAN
X-WR-CALNAME:QUANDO LE STORIE SI PRENDONO CURA DEL LETTORE: DUE di Irène Némirovsky
BEGIN:VEVENT
CREATED:20250322T104214Z
UID:9665
DTEND;VALUE=DATE:20250407T170000Z
DTSTART;VALUE=DATE:20250407T153000Z
DTSTAMP:19700101T000001Z
LOCATION:
DESCRIPTION:Lunedì 7 aprile 2025, ore 16:30
SUMMARY:QUANDO LE STORIE SI PRENDONO CURA DEL LETTORE: DUE di Irène Némirovsky
ORGANIZER:Baveno Turismo
URL;VALUE=URI:https://bavenoturismo.it/eventi/quando-le-storie-si-prendono-cura-del-lettore-due-di-irene-nemirovsky/
TRANSP:OPAQUE
BEGIN:VALARM
ACTION:DISPLAY
TRIGGER;VALUE=DATE-TIME:20250407T180000Z
DESCRIPTION:Reminder for QUANDO LE STORIE SI PRENDONO CURA DEL LETTORE: DUE di Irène Némirovsky
END:VALARM
END:VEVENT
END:VCALENDAR
