


BEGIN:VCALENDAR
VERSION:2.0
PRODID:-//QUANDO LE STORIE SI PRENDONO CURA DEL LETTORE
 //NONSGML Events //EN
CALSCALE:GREGORIAN
X-WR-CALNAME:QUANDO LE STORIE SI PRENDONO CURA DEL LETTORE
BEGIN:VEVENT
CREATED:20250322T104940Z
UID:9668
DTEND;VALUE=DATE:20251124T160000Z
DTSTART;VALUE=DATE:20250922T133000Z
DTSTAMP:19700101T000001Z
LOCATION:
DESCRIPTION:Dal 22 settembre 2025 al 24 novembre 2025
SUMMARY:QUANDO LE STORIE SI PRENDONO CURA DEL LETTORE
ORGANIZER:Baveno Turismo
URL;VALUE=URI:https://bavenoturismo.it/eventi/quando-le-storie-si-prendono-cura-del-lettore-la-signora-harris-di-paul-gallico/
TRANSP:OPAQUE
BEGIN:VALARM
ACTION:DISPLAY
TRIGGER;VALUE=DATE-TIME:20251124T170000Z
DESCRIPTION:Reminder for QUANDO LE STORIE SI PRENDONO CURA DEL LETTORE
END:VALARM
END:VEVENT
END:VCALENDAR
