


BEGIN:VCALENDAR
VERSION:2.0
PRODID:-//TORINO JAZZ FESTIVAL PIEMONTE 2025
 //NONSGML Events //EN
CALSCALE:GREGORIAN
X-WR-CALNAME:TORINO JAZZ FESTIVAL PIEMONTE 2025
BEGIN:VEVENT
CREATED:20250415T135443Z
UID:9772
DTEND;VALUE=DATE:20250731T220000Z
DTSTART;VALUE=DATE:20250731T200000Z
DTSTAMP:19700101T000001Z
LOCATION:
DESCRIPTION:Giovedì 31 luglio 2025, ore 21:00
SUMMARY:TORINO JAZZ FESTIVAL PIEMONTE 2025
ORGANIZER:Baveno Turismo
URL;VALUE=URI:https://bavenoturismo.it/eventi/torino-jazz-festival-piemonte-2025/
TRANSP:OPAQUE
BEGIN:VALARM
ACTION:DISPLAY
TRIGGER;VALUE=DATE-TIME:20250731T230000Z
DESCRIPTION:Reminder for TORINO JAZZ FESTIVAL PIEMONTE 2025
END:VALARM
END:VEVENT
END:VCALENDAR
