


BEGIN:VCALENDAR
VERSION:2.0
PRODID:-//NOTE D&#8217;ESTATE: The Centi
 //NONSGML Events //EN
CALSCALE:GREGORIAN
X-WR-CALNAME:NOTE D&#8217;ESTATE: The Centi
BEGIN:VEVENT
CREATED:20250417T101308Z
UID:9799
DTEND;VALUE=DATE:20250813T213000Z
DTSTART;VALUE=DATE:20250813T200000Z
DTSTAMP:19700101T000001Z
LOCATION:
DESCRIPTION:Mercoledì 13 agosto 2025, ore 21:00
SUMMARY:NOTE D&#8217\;ESTATE: The Centi
ORGANIZER:Baveno Turismo
URL;VALUE=URI:https://bavenoturismo.it/eventi/note-destate-the-centi-2/
TRANSP:OPAQUE
BEGIN:VALARM
ACTION:DISPLAY
TRIGGER;VALUE=DATE-TIME:20250813T223000Z
DESCRIPTION:Reminder for NOTE D&#8217\;ESTATE: The Centi
END:VALARM
END:VEVENT
END:VCALENDAR
